BEGIN:VCALENDAR
VERSION:2.0
PRODID:Events Booking
BEGIN:VEVENT
UID:69ecc91c6917d
SUMMARY:I COLORI DEL TEMPO-Proiezione film di lunedì 27 aprile-h.21\,30
DESCRIPTION:
LOCATION:Via Bissati 1 Felizzano
DTSTART:20260427T193000Z
DTEND:20260427T213000Z
DTSTAMP:20260424T095154Z
ORGANIZER;CN=fitzcarraldo felizzano:MAILTO:info@fitzcarraldofelizzano.it
GEO:44.895708;8.439194
X-APPLE-STRUCTURED-LOCATION;VALUE=URI;X-ADDRESS=Via Bissati 1 Felizzano;X-A
 PPLE-RADIUS=72;X-TITLE=Fitzcarraldo:44.895708;8.439194
END:VEVENT
END:VCALENDAR