BEGIN:VCALENDAR
VERSION:2.0
PRODID:Events Booking
BEGIN:VEVENT
UID:69e9f79187bc2
SUMMARY:THE DARK SIDE OF THE MAN- Sabato 9 maggio - h. 21\,30
DESCRIPTION:
LOCATION:Via Bissati 1 Felizzano
DTSTART:20260509T193000Z
DTEND:20260509T213000Z
DTSTAMP:20260422T092142Z
ORGANIZER;CN=fitzcarraldo felizzano:MAILTO:info@fitzcarraldofelizzano.it
GEO:44.895708;8.439194
X-APPLE-STRUCTURED-LOCATION;VALUE=URI;X-ADDRESS=Via Bissati 1 Felizzano;X-A
 PPLE-RADIUS=72;X-TITLE=Fitzcarraldo:44.895708;8.439194
END:VEVENT
END:VCALENDAR